BEGIN:VCALENDAR
VERSION:2.0
PRODID:-//Federazione Italiana Sport Cinofili - ECPv6.15.20//NONSGML v1.0//EN
CALSCALE:GREGORIAN
METHOD:PUBLISH
X-ORIGINAL-URL:https://www.sportcinofili.it
X-WR-CALDESC:Eventi per Federazione Italiana Sport Cinofili
REFRESH-INTERVAL;VALUE=DURATION:PT1H
X-Robots-Tag:noindex
X-PUBLISHED-TTL:PT1H
BEGIN:VTIMEZONE
TZID:Europe/Rome
BEGIN:DAYLIGHT
TZOFFSETFROM:+0100
TZOFFSETTO:+0200
TZNAME:CEST
DTSTART:20160327T010000
END:DAYLIGHT
BEGIN:STANDARD
TZOFFSETFROM:+0200
TZOFFSETTO:+0100
TZNAME:CET
DTSTART:20161030T010000
END:STANDARD
BEGIN:DAYLIGHT
TZOFFSETFROM:+0100
TZOFFSETTO:+0200
TZNAME:CEST
DTSTART:20170326T010000
END:DAYLIGHT
BEGIN:STANDARD
TZOFFSETFROM:+0200
TZOFFSETTO:+0100
TZNAME:CET
DTSTART:20171029T010000
END:STANDARD
BEGIN:DAYLIGHT
TZOFFSETFROM:+0100
TZOFFSETTO:+0200
TZNAME:CEST
DTSTART:20180325T010000
END:DAYLIGHT
BEGIN:STANDARD
TZOFFSETFROM:+0200
TZOFFSETTO:+0100
TZNAME:CET
DTSTART:20181028T010000
END:STANDARD
END:VTIMEZONE
BEGIN:VEVENT
DTSTART;TZID=Europe/Rome:20170606T090000
DTEND;TZID=Europe/Rome:20170606T180000
DTSTAMP:20260425T060326
CREATED:20170120T114659Z
LAST-MODIFIED:20170120T114659Z
UID:6429-1496739600-1496772000@www.sportcinofili.it
SUMMARY:CORSO DI EDUCATORE CINOFILO CICLO UNICO - MODULO 4 LE PUPPY CLASS
DESCRIPTION:
URL:https://www.sportcinofili.it/index.php/eventi/corso-di-educatore-cinofilo-ciclo-unico-modulo-4-le-puppy-class/
LOCATION:Fisc\, Via Caravaggio\, 44\, Cinisello Balsamo\, 20092\, Italia
CATEGORIES:EDUCAZIONE CINOFILA,PUPPY CLASS
ATTACH;FMTTYPE=image/jpeg:https://www.sportcinofili.it/wp-content/uploads/2017/01/modulo4C.jpg
ORGANIZER;CN="FISC":MAILTO:info@sportcinofili.it
END:VEVENT
BEGIN:VEVENT
DTSTART;VALUE=DATE:20170403
DTEND;VALUE=DATE:20170404
DTSTAMP:20260425T060326
CREATED:20170222T080159Z
LAST-MODIFIED:20170307T153514Z
UID:6844-1491177600-1491263999@www.sportcinofili.it
SUMMARY:Puppy class
DESCRIPTION:
URL:https://www.sportcinofili.it/index.php/eventi/puppy-class-2/
LOCATION:Dog’s splash and fun ASD\, Via Lago 29\, Brebbia\, 21020\, Italia
CATEGORIES:PUPPY CLASS
ATTACH;FMTTYPE=image/jpeg:https://www.sportcinofili.it/wp-content/uploads/2017/02/ajaxmail.jpg
ORGANIZER;CN="FISC":MAILTO:info@sportcinofili.it
END:VEVENT
BEGIN:VEVENT
DTSTART;TZID=Europe/Rome:20170201T183000
DTEND;TZID=Europe/Rome:20170201T193000
DTSTAMP:20260425T060326
CREATED:20161219T132920Z
LAST-MODIFIED:20161219T132958Z
UID:6085-1485973800-1485977400@www.sportcinofili.it
SUMMARY:Puppy Class
DESCRIPTION:
URL:https://www.sportcinofili.it/index.php/eventi/puppy-class/
LOCATION:Centro Cinofilo Magic Dog\, Via BRANDOLINI 32\, Cinisello Balsamo\, MI\, 20092\, Italia
CATEGORIES:PUPPY CLASS
ATTACH;FMTTYPE=image/jpeg:https://www.sportcinofili.it/wp-content/uploads/2016/12/PUPPYCLASS_DEF.jpg
END:VEVENT
END:VCALENDAR